BEGIN:VCALENDAR
VERSION:2.0
CALSCALE:GREGORIAN
PRODID:adamgibbons/ics
METHOD:PUBLISH
X-PUBLISHED-TTL:PT1H
BEGIN:VEVENT
UID:160@fuori.org
SUMMARY:1 MAGGIO AL LO.CO
DTSTAMP:20260421T140526Z
DTSTART:20260501T100000Z
DTEND:20260501T200000Z
DESCRIPTION:FELTRE\n\n1 maggio 1945\, la guerra ebbe fine\n\n1 maggio 2026\
	, sarà festa di lotta !\n\nIn occasione dell' iniziativa a Feltre "Resiste
	rePedalareResistere" promossa da\nANPI Brigata Gramsci - Fiab FeltreInBici
	 🚲(con partenza a Pra' del Moro\nh.8\,30)\,\n\ntorniamo a festeggiare ques
	ta giornata: sarà festa di lotta✊!\n\nAnche quest' anno il 1°maggio arriva
	 in un contesto politico dominato dalle\nguerre\, dalle politiche autorita
	rie del governo e del peggioramento delle\ncondizioni di molti "invisibili
	" che vivono e lavorano anche accanto a noi.\n\n🇵🇸Con la Palestina nel cuor
	e e solidali con tutti gli oppressi e oppresse del\npianeta\, per un mondo
	 più giusto!\n\n👑Contro i re e le loro guerre!\n\n🦋Per la libertà di Maya 
	e di tutti gli antifascisti e prigionieri colpiti dalla\nrepressione!\n\nL
	' ANTIFASCISMO NON È REATO!\n\n1M ⚙️🩺🛠️ È LA FESTA E LA LOTTA di lavoratori 
	e lavoratrici\, per\n\n⛓️‍💥diritto ad un reddito\n\n⛓️‍💥una vita dignitosa\, con
	tro lo sfruttamento e per condizioni di lavoro\nsicure.\n\nLa guerra è rec
	essione\, posti di lavoro cancellati\, potere d'acquisto ridotto a\nfronte
	 di aumento di inflazione\, welfare tagliato e soldi al riarmo.\n\n... È L
	OTTA CONDIVISA...\n\nSTAREMO INSIEME: AL\n\nLo.Co [http://Lo.Co]. Locale C
	omune IN VIA MONTE CIMA 1 A FELTRE❗\n\n📌dalle 12 per bere un bicchiere e a
	spettare l’arrivo della pedalata sui luoghi\ndella Resistenza\n\n📌Seguirà 
	il pranzo conviviale vegetariano.\n\nGradita la prenotazione\n\ntel/wup 33
	9 818 0614 ☎️\n\n📌Alle 15:30 per la presentazione della Ricerca "Ammalarsi 
	di lavoro": La salute\nnei contesti lavorativi 🪫 con Valeria Piro e Costan
	za Galanti\, ricercatrici a\nSociologa del lavoro dell’Università di Padov
	a.\n\n📌E NON C'È PRIMO MAGGIO SENZA MUSICA 🎶🎵 dalle 18:00 🎵🎶\n\nBallate di
	 Confine + Drum Circle con Adrian Depascale\n\nVI ASPETTIAMO ...E CHE SIA 
	UN BUON 1°MAGGIO!
URL:http://fuori.org/event/1-maggio-al-loco
LOCATION:Spazio LoCo - Via Monte Cima 1\, Feltre (BL)
STATUS:CONFIRMED
CATEGORIES:LoCo,Free palestine,Primo maggio,Antifascismo
X-ALT-DESC;FMTTYPE=text/html:<p>FELTRE</p><p>1 maggio 1945, la guerra ebbe 
	fine</p><p>1 maggio 2026, sarà festa di lotta !</p><p>In occasione dell' i
	niziativa a Feltre "ResisterePedalareResistere" promossa da ANPI Brigata G
	ramsci - Fiab FeltreInBici 🚲(con partenza a Pra' del Moro h.8,30),</p><p>t
	orniamo a festeggiare questa giornata: sarà festa di lotta✊!</p><p>Anche q
	uest' anno il 1°maggio arriva in un contesto politico dominato dalle guerr
	e, dalle politiche autoritarie del governo e del peggioramento delle condi
	zioni di molti "invisibili" che vivono e lavorano anche accanto a noi.</p>
	<p>🇵🇸Con la Palestina nel cuore e solidali con tutti gli oppressi e oppress
	e del pianeta, per un mondo più giusto!</p><p>👑Contro i re e le loro guerr
	e!</p><p>🦋Per la libertà di Maya e di tutti gli antifascisti e prigionieri
	 colpiti dalla repressione!</p><p>L' ANTIFASCISMO NON È REATO! </p><p>1M ⚙️
	🩺🛠️ È LA FESTA E LA LOTTA di lavoratori e lavoratrici, per </p><p>⛓️‍💥diritto 
	ad un reddito</p><p>⛓️‍💥una vita dignitosa, contro lo sfruttamento e per cond
	izioni di lavoro sicure.</p><p>La guerra è recessione, posti di lavoro can
	cellati, potere d'acquisto ridotto a fronte di aumento di inflazione, welf
	are tagliato e soldi al riarmo.</p><p>... È LOTTA CONDIVISA...</p><p>STARE
	MO INSIEME: AL </p><p><a target="_blank" href="http://Lo.Co">Lo.Co</a>. Lo
	cale Comune  IN  VIA MONTE CIMA 1 A FELTRE❗</p><p>📌dalle 12 per bere un bi
	cchiere e aspettare l’arrivo della pedalata sui luoghi della Resistenza</p
	><p>📌Seguirà il pranzo conviviale vegetariano. </p><p>Gradita la prenotazi
	one </p><p>tel/wup  339 818 0614 ☎️</p><p>📌Alle 15:30 per la presentazione 
	della Ricerca "Ammalarsi di lavoro":  La salute nei contesti lavorativi 🪫 
	con Valeria Piro e Costanza Galanti, ricercatrici a Sociologa del lavoro  
	dell’Università di Padova.</p><p>📌E NON C'È PRIMO MAGGIO SENZA MUSICA 🎶🎵 d
	alle 18:00   🎵🎶</p><p>Ballate di Confine + Drum Circle con Adrian Depascal
	e</p><p>VI ASPETTIAMO ...E CHE SIA UN BUON 1°MAGGIO!</p>
BEGIN:VALARM
ACTION:DISPLAY
DESCRIPTION:1 MAGGIO AL LO.CO
TRIGGER:-PT1H
END:VALARM
END:VEVENT
END:VCALENDAR
